Workbook

Sheet Corp. Form
A1: GENERAL INSTRUCTIONS
A2: - All Taxpayers MUST complete parts A, B, H and I - Taxpayers who have income from trade or business other than from agriculture & fisheries, investments in life insurance companies and/or residential rent MUST complete parts C & E - Taxpayers who have income from agriculture & fisheries MUST complete parts D & E - Life insurance companies should complete part F - Taxpayers who have income from residential rent MUST complete part G
A3: PART A - TAX INCENTIVES QUESTIONS
B4: Is your firm currently listed on the Junior Stock Market, and has it been listed on that Market for no more than 5 years? | E4: 10 | F4: Yes | H4: Yes
B5: Is your firm currently listed on the Junior Stock Market, and has it been listed on that Market for more than 5 years, but no more than 10 years? | E5: 20 | F5: No | H5: No
A6: PART B - BALANCE SHEET AT END OF YEAR
B7: Assets
B8: Cash & Equivalents (uncashed cheques, chequing accts, savings…) | E8: 30 | F8: 100000
B9: Accounts Receivable | E9: 40 | F9: 100000
B10: Loans to Directors | E10: 50 | F10: 100000
B11: Other Current, Short-term and Long-term Assets | E11: 60 | F11: 100000 | Q11: 11
B12: Total Assets (Sum of L30 to L60) | E12: 70 | F12: =SUM(F8:F11) -> 400000
B13: Liabilities
B14: All Current, Short-term and Long-term Liabilities | E14: 80 | F14: 200000
B15: Net Assets (Sum of L70 - L80) | E15: 90 | F15: =SUM(F12-F14) -> 200000
B16: Shareholder Equity | H16: NET ASSETS MUST BE EQUAL TO SHAREHOLDERS EQIUTY
B17: Shareholder Equity | E17: 100 | F17: 200000 | G17: =IF(F12-(F14+F17)=0,0,H16) -> 0
A18: PART C – INCOME FROM TRADE, BUSINESS, INVESTMENTS AND NON-RESIDENTIAL RENTAL PROPERTY
B19: Income
B20: Trade Sales of Goods and Service - Domestic Income | E20: 170 | F20: 500000
B21: Trade Sales of Goods and Service - Exports | E21: 180 | F21: 500000
B22: Domestic Investment Income | E22: 190 | F22: 500000
B23: Foreign Investment Income | E23: 200 | F23: 500000
B24: Total Rental Income (Excluding Residential Property) | E24: 210 | F24: 500000
B25: Other Income | E25: 220 | F25: 500000
B26: Total Income (Sum of L170 to L220) | E26: 230 | F26: =SUM(F20:F25) -> 3000000
B27: Cost of Sales
B28: Opening Inventory | E28: 235 | F28: 50000
B29: Purchases during year | E29: 240 | F29: 150000
B30: Closing Inventory | E30: 250 | F30: 50000
B31: Cost of Sales (L235 + L240 - L250) | E31: 260 | F31: =SUM(F28+F29-F30) -> 150000
B32: Operating Expenses
B33: Labour Cost | E33: 270 | F33: 50000
B34: Commissions | E34: 280 | F34: 50000
B35: Management Fees | E35: 290 | F35: 50000
B36: Directors’ Fees | E36: 300 | F36: 50000
B37: Depreciation (as per Financial Statements) | E37: 310 | F37: 50000
B38: Bad Debt | E38: 320 | F38: 50000
B39: Other Expenses | E39: 330 | F39: 50000
B40: Total Operating Expenses (Sum of L270 to L330) | E40: 340 | F40: =SUM(F33:F39) -> 350000
...

Sheet Original
A1: General Instructions: - All Taxpayers should complete parts A, B, H and I - Taxpayers who have income from trade or business other than from agriculture & fisheries, investments (other than life insurance companies) and/or non-residential rent should comp
A2: - All Taxpayers MUST complete parts A, B, H and I - Taxpayers who have income from trade or business other than from agriculture & fisheries, investments (other than life insurance companies) and/or non-residential rent should complete parts C & E - Taxpayers who have income from agriculture & fisheries should complete parts D & E - Life insurance companies should complete part F - Taxpayers who have income from residential rent should complete part G
A3: PART A - TAX INCENTIVES QUESTIONS
B4: Is your firm currently listed on the Junior Stock Market, and has it been listed on that Market for no more than 5 years? | E4: 10 | F4: Yes
B5: Is your firm currently listed on the Junior Stock Market, and has it been listed on that Market for more than 5 years, but no more than 10 years? | E5: 20 | F5: No
A6: PART B - BALANCE SHEET AT END OF YEAR
B7: Assets
B8: Cash & equivalents (uncashed cheques, chequing accts, savings…) | E8: 30
B9: Accounts Receivable | E9: 40
B10: Loans to Directors | E10: 50
B11: Other Current, Short-term and Long-term Assets | E11: 60
B12: Total Assets (Sum of L30 to L60) | E12: 70 | F12: =SUM(F8:F11) -> 0
B13: Liabilities
B14: All Current, Short-term and Long-term Liabilities | E14: 80
B15: Shareholder Equity | H15: NET ASSETS MUST BE EQUAL TO SHAREHOLDERS EQIUTY
B16: Shareholder Equity | E16: 90 | G16: =IF(F12-F14+F16=0,0,H15) -> 0
A17: PART C – INCOME FROM TRADE, BUSINESS, INVESTMENTS AND NON-RESIDENTIAL RENTAL PROPERTY
B18: Income
B19: Trade sales of goods and service - Domestic Income | E19: 170
B20: Trade sales of goods and service - Exports | E20: 180
B21: Domestic Investment Income | E21: 190
B22: Foreign Investment Income | E22: 200
B23: Total Rental Income (Excluding residential property) | E23: 210
B24: Total Income (Sum of L170 to L210) | E24: 220 | F24: =SUM(F19:F23) -> 0
B25: Cost of Sales
B26: Opening Inventory | E26: 230
B27: Purchases during year | E27: 240
B28: Closing Inventory | E28: 250
B29: Cost of Sales (L230 + L240 - L250) | E29: 260 | F29: =SUM(F26+F27-F28) -> 0
B30: Operating Expenses
B31: Labour Cost | E31: 270
B32: Commissions | E32: 280
B33: Management Fees | E33: 290
B34: Directors’ Fees | E34: 300
B35: Depreciation (as per Financial Statements) | E35: 310
B36: Other Expenses | E36: 320
B37: Total Operating Expenses (Sum of L270 to L320) | E37: 330 | F37: =SUM(F31:F36) -> 0
B38: Net Trade, Business, Investment and Non-residential Income/Loss (L220 - L260 - L330) | E38: 340 | F38: =SUM(F24-F29-F37) -> 0
A39: PART D – INCOME FROM AGRICULTURE AND FISHERIES
B40: Gross Income
...

Sheet Sheet2
A1: General Instructions: - All Taxpayers should complete parts A, B, H and I - Taxpayers who have income from trade or business other than from agriculture & fisheries, investments (other than life insurance companies) and/or non-residential rent should comp
A2: - All Taxpayers MUST complete parts A, B, H and I - Taxpayers who have income from trade or business other than from agriculture & fisheries, investments (other than life insurance companies) and/or non-residential rent should complete parts C & E - Taxpayers who have income from agriculture & fisheries should complete parts D & E - Life insurance companies should complete part F - Taxpayers who have income from residential rent should complete part G
A3: PART A - TAX INCENTIVES QUESTIONS
B4: Is your firm currently listed on the Junior Stock Market, and has it been listed on that Market for no more than 5 years? | E4: 10 | F4: =Original!F4 -> Yes
B5: Is your firm currently listed on the Junior Stock Market, and has it been listed on that Market for more than 5 years, but no more than 10 years? | E5: 20 | F5: =Original!F5 -> No
A6: PART B - BALANCE SHEET AT END OF YEAR
B7: Assets
B8: Cash & equivalents (uncashed cheques, chequing accts, savings…) | E8: 30 | F8: =Original!F8 -> 0
B9: Accounts Receivable | E9: 40 | F9: =Original!F9 -> 0
B10: Loans to Directors | E10: 50 | F10: =Original!F10 -> 0
B11: Other Current, Short-term and Long-term Assets | E11: 60 | F11: =Original!F11 -> 0
B12: Total Assets (Sum of L30 to L60) | E12: 70 | F12: =SUM(F8:F11) -> 0
B13: Liabilities
B14: All Current, Short-term and Long-term Liabilities | E14: 80 | F14: =Original!F14 -> 0
B15: Shareholder Equity | H15: NET ASSETS MUST BE EQUAL TO SHAREHOLDERS EQIUTY
B16: Shareholder Equity | E16: 90 | F16: =Original!F16 -> 0 | G16: =IF(F12-F14+F16=0,0,H15) -> 0
A17: PART C – INCOME FROM TRADE, BUSINESS, INVESTMENTS AND NON-RESIDENTIAL RENTAL PROPERTY
B18: Income
B19: Trade sales of goods and service - Domestic Income | E19: 170 | F19: =Original!F19 -> 0
B20: Trade sales of goods and service - Exports | E20: 180 | F20: =Original!F20 -> 0
B21: Domestic Investment Income | E21: 190 | F21: =Original!F21 -> 0
B22: Foreign Investment Income | E22: 200 | F22: =Original!F22 -> 0
B23: Total Rental Income (Excluding residential property) | E23: 210 | F23: =Original!F23 -> 0
B24: Total Income (Sum of L170 to L210) | E24: 220 | F24: =SUM(F19:F23) -> 0
B25: Cost of Sales
B26: Opening Inventory | E26: 230 | F26: =Original!F26 -> 0
B27: Purchases during year | E27: 240 | F27: =Original!F27 -> 0
B28: Closing Inventory | E28: 250 | F28: =Original!F28 -> 0
B29: Cost of Sales (L230 + L240 - L250) | E29: 260 | F29: =SUM(F26+F27-F28) -> 0
B30: Operating Expenses
B31: Labour Cost | E31: 270 | F31: =Original!F31 -> 0
B32: Commissions | E32: 280 | F32: =Original!F32 -> 0
B33: Management Fees | E33: 290 | F33: =Original!F33 -> 0
B34: Directors’ Fees | E34: 300 | F34: =Original!F34 -> 0
B35: Depreciation (as per Financial Statements) | E35: 310 | F35: =Original!F35 -> 0
B36: Other Expenses | E36: 320 | F36: =Original!F36 -> 0
B37: Total Operating Expenses (Sum of L270 to L320) | E37: 330 | F37: =SUM(F31:F36) -> 0
B38: Net Trade, Business, Investment and Non-residential Income/Loss (L220 - L260 - L330) | E38: 340 | F38: =SUM(F24-F29-F37) -> 0
A39: PART D – INCOME FROM AGRICULTURE AND FISHERIES
B40: Gross Income
...
